BEGIN:VCALENDAR
VERSION:2.0
PRODID:-//St. James&#039; Episcopal Church - ECPv6.15.20//NONSGML v1.0//EN
CALSCALE:GREGORIAN
METHOD:PUBLISH
X-ORIGINAL-URL:https://stjameshydepark.org
X-WR-CALDESC:Events for St. James&#039; Episcopal Church
REFRESH-INTERVAL;VALUE=DURATION:PT1H
X-Robots-Tag:noindex
X-PUBLISHED-TTL:PT1H
BEGIN:VTIMEZONE
TZID:America/New_York
BEGIN:DAYLIGHT
TZOFFSETFROM:-0500
TZOFFSETTO:-0400
TZNAME:EDT
DTSTART:20220313T070000
END:DAYLIGHT
BEGIN:STANDARD
TZOFFSETFROM:-0400
TZOFFSETTO:-0500
TZNAME:EST
DTSTART:20221106T060000
END:STANDARD
BEGIN:DAYLIGHT
TZOFFSETFROM:-0500
TZOFFSETTO:-0400
TZNAME:EDT
DTSTART:20230312T070000
END:DAYLIGHT
BEGIN:STANDARD
TZOFFSETFROM:-0400
TZOFFSETTO:-0500
TZNAME:EST
DTSTART:20231105T060000
END:STANDARD
BEGIN:DAYLIGHT
TZOFFSETFROM:-0500
TZOFFSETTO:-0400
TZNAME:EDT
DTSTART:20240310T070000
END:DAYLIGHT
BEGIN:STANDARD
TZOFFSETFROM:-0400
TZOFFSETTO:-0500
TZNAME:EST
DTSTART:20241103T060000
END:STANDARD
END:VTIMEZONE
BEGIN:VEVENT
DTSTART;VALUE=DATE:20231029
DTEND;VALUE=DATE:20231030
DTSTAMP:20260425T151000
CREATED:20221202T140222Z
LAST-MODIFIED:20221202T140222Z
UID:10001683-1698537600-1698623999@stjameshydepark.org
SUMMARY:Bishop Visitation (Bp Shin)
DESCRIPTION:
URL:https://stjameshydepark.org/event/bishop-visitation-bp-shin/
LOCATION:St. James’ Episcopal Church\, 4526 Albany Post Rd.\, Hyde Park\, NY\, 12538\, United States
CATEGORIES:One Time Event
END:VEVENT
BEGIN:VEVENT
DTSTART;TZID=America/New_York:20231029T080000
DTEND;TZID=America/New_York:20231029T090000
DTSTAMP:20260425T151000
CREATED:20230110T171732Z
LAST-MODIFIED:20230709T232408Z
UID:10001571-1698566400-1698570000@stjameshydepark.org
SUMMARY:Holy Eucharist (Rite I)
DESCRIPTION:Join us Sundays at 8:00 a.m. for a celebration of Holy Eucharist (Communion). This is a quiet service\, usually without music\, though we often have a soloist with acoustic guitar playing before and after the service. The service uses Rite 1 from the 1979 Book of Common Prayer\, with traditional language.
URL:https://stjameshydepark.org/event/holy-eucharist-rite-i-2023-05-28/2023-10-29/
LOCATION:St. James’ Episcopal Church\, 4526 Albany Post Rd.\, Hyde Park\, NY\, 12538\, United States
CATEGORIES:Worship
END:VEVENT
BEGIN:VEVENT
DTSTART;TZID=America/New_York:20231029T100000
DTEND;TZID=America/New_York:20231029T110000
DTSTAMP:20260425T151000
CREATED:20231025T145427Z
LAST-MODIFIED:20231025T145428Z
UID:10002699-1698573600-1698577200@stjameshydepark.org
SUMMARY:Holy Eucharist (Rite II) led by Bishop Allen K. Shin ~ No Sunday School today!
DESCRIPTION:On Sunday\, October 29th\, we will celebrate our patronal feast\, the feast of St. James of Jerusalem\, Brother of our Lord Jesus Christ. The Right Reverend Allen K. Shin\, Bishop Suffragan\, Diocese of New York\, will lead the 10:00 a.m. service as celebrant and preacher\, and will preside over the rite of Confirmation and Reception for new members of our church. \nNo Sunday School today: children are invited to join their families in church. \nAbout the 10 am service: Join us Sundays at 10:00 a.m. for a celebration of Holy Eucharist (Communion). This service has music (usually organ and choir\, along with special guest musicians) and uses a variety of prayers and language from traditional to inclusive and expansive\, drawing from Rite II of the 1979 Book of Common Prayer\, Enriching Our Worship\, and other sources. Coffee hour in the Parish House usually follows this service. \n  \n 
URL:https://stjameshydepark.org/event/holy-eucharist-rite-ii-2023-06-04-2/
LOCATION:St. James’ Episcopal Church\, 4526 Albany Post Rd.\, Hyde Park\, NY\, 12538\, United States
CATEGORIES:General
END:VEVENT
BEGIN:VEVENT
DTSTART;TZID=America/New_York:20231029T183000
DTEND;TZID=America/New_York:20231029T210000
DTSTAMP:20260425T151000
CREATED:20230315T174027Z
LAST-MODIFIED:20231108T151435Z
UID:10001975-1698604200-1698613200@stjameshydepark.org
SUMMARY:AA Meeting (Parish Hall; Rm. 201)
DESCRIPTION:
URL:https://stjameshydepark.org/event/aa-meeting-parish-hall-rm-201/2023-10-29/
LOCATION:St. James’ Episcopal Church\, 4526 Albany Post Rd.\, Hyde Park\, NY\, 12538\, United States
END:VEVENT
BEGIN:VEVENT
DTSTART;TZID=America/New_York:20231029T183000
DTEND;TZID=America/New_York:20231029T220000
DTSTAMP:20260425T151000
CREATED:20230622T132525Z
LAST-MODIFIED:20240112T181743Z
UID:10002106-1698604200-1698616800@stjameshydepark.org
SUMMARY:AA Ind. Anniversary (Parish Hall)
DESCRIPTION:
URL:https://stjameshydepark.org/event/aa-ind-anniversary-parish-hall/2023-10-29/
LOCATION:St. James’ Episcopal Church\, 4526 Albany Post Rd.\, Hyde Park\, NY\, 12538\, United States
END:VEVENT
END:VCALENDAR