BEGIN:VCALENDAR
VERSION:2.0
PRODID:-//St. James&#039; Episcopal Church - ECPv6.15.20//NONSGML v1.0//EN
CALSCALE:GREGORIAN
METHOD:PUBLISH
X-ORIGINAL-URL:https://stjameshydepark.org
X-WR-CALDESC:Events for St. James&#039; Episcopal Church
REFRESH-INTERVAL;VALUE=DURATION:PT1H
X-Robots-Tag:noindex
X-PUBLISHED-TTL:PT1H
BEGIN:VTIMEZONE
TZID:America/New_York
BEGIN:DAYLIGHT
TZOFFSETFROM:-0500
TZOFFSETTO:-0400
TZNAME:EDT
DTSTART:20220313T070000
END:DAYLIGHT
BEGIN:STANDARD
TZOFFSETFROM:-0400
TZOFFSETTO:-0500
TZNAME:EST
DTSTART:20221106T060000
END:STANDARD
BEGIN:DAYLIGHT
TZOFFSETFROM:-0500
TZOFFSETTO:-0400
TZNAME:EDT
DTSTART:20230312T070000
END:DAYLIGHT
BEGIN:STANDARD
TZOFFSETFROM:-0400
TZOFFSETTO:-0500
TZNAME:EST
DTSTART:20231105T060000
END:STANDARD
BEGIN:DAYLIGHT
TZOFFSETFROM:-0500
TZOFFSETTO:-0400
TZNAME:EDT
DTSTART:20240310T070000
END:DAYLIGHT
BEGIN:STANDARD
TZOFFSETFROM:-0400
TZOFFSETTO:-0500
TZNAME:EST
DTSTART:20241103T060000
END:STANDARD
END:VTIMEZONE
BEGIN:VEVENT
DTSTART;TZID=America/New_York:20230819T183000
DTEND;TZID=America/New_York:20230819T193000
DTSTAMP:20260425T220607
CREATED:20230112T191110Z
LAST-MODIFIED:20231102T135511Z
UID:10001630-1692469800-1692473400@stjameshydepark.org
SUMMARY:Compline (Remote)
DESCRIPTION:
URL:https://stjameshydepark.org/event/compline-remote-3-2023-01-07/2023-08-19/
LOCATION:Online
CATEGORIES:Worship
END:VEVENT
BEGIN:VEVENT
DTSTART;TZID=America/New_York:20230819T190000
DTEND;TZID=America/New_York:20230819T203000
DTSTAMP:20260425T220607
CREATED:20230804T152432Z
LAST-MODIFIED:20230804T153303Z
UID:10002220-1692471600-1692477000@stjameshydepark.org
SUMMARY:Shakespeare in the Meditation Garden - "The Tempest"
DESCRIPTION:St. James’ hosts the New Deal Creative Arts Center’s production of Shakespeare’s The Tempest in our Meditation Garden. Details and tickets: https://www.simpletix.com/e/new-deal-presents-the-tempest-tickets-138367
URL:https://stjameshydepark.org/event/shakespeare-in-the-meditation-garden-the-tempest/2023-08-19/
LOCATION:St. James’ Episcopal Church\, 4526 Albany Post Rd.\, Hyde Park\, NY\, 12538\, United States
CATEGORIES:New Deal
ATTACH;FMTTYPE=image/jpeg:https://stjameshydepark.org/wp-content/uploads/2023/08/tempest.jpeg
END:VEVENT
END:VCALENDAR